BEGIN:VCALENDAR
VERSION:2.0
CALSCALE:GREGORIAN
PRODID:-//Diputació de Barcelona//DibaCMS//EN
BEGIN:VEVENT
UID:6474
DTSTAMP:20260421T011354
DTSTART:20250406T183000
DTEND:20250406T183000
SUMMARY:Balls de la gent gran
LOCATION:Carrer Santa Anna, sn 08758 Cervelló
METHOD:PUBLISH
X-WR-CALNAME:ajuntament@cervello.cat
X-WR-TIMEZONE:Europe/Madrid
DESCRIPTION:
URI:https://www.cervello.cat/actualitat/agenda/balls-de-la-gent-gran.html
CLASS:PUBLIC
END:VEVENT
END:VCALENDAR
