BEGIN:VCALENDAR
VERSION:2.0
CALSCALE:GREGORIAN
PRODID:-//Diputació de Barcelona//DibaCMS//EN
BEGIN:VEVENT
UID:6839
DTSTAMP:20260426T023438
DTSTART:20260105T173000
DTEND:20260105T173000
SUMMARY:Cavalcada de Reis
LOCATION:Sortida del carrer Raval Bassons. 
METHOD:PUBLISH
X-WR-CALNAME:ajuntament@cervello.cat
X-WR-TIMEZONE:Europe/Madrid
DESCRIPTION:
URI:https://www.cervello.cat/actualitat/agenda/6839-cavalcada-de-reis.html
CLASS:PUBLIC
END:VEVENT
END:VCALENDAR
