BEGIN:VCALENDAR
VERSION:2.0
CALSCALE:GREGORIAN
PRODID:-//Diputació de Barcelona//DibaCMS//EN
BEGIN:VEVENT
UID:6868
DTSTAMP:20260426T024224
DTSTART:20260123T180000
DTEND:20260123T180000
SUMMARY:Taller "Transformem i parlem dels brics"
LOCATION:Plaça de la Biblioteca , 1 08758 Cervelló
METHOD:PUBLISH
X-WR-CALNAME:ajuntament@cervello.cat
X-WR-TIMEZONE:Europe/Madrid
DESCRIPTION:
URI:https://www.cervello.cat/actualitat/agenda/taller-transformem-i-parlem-dels-brics.html
CLASS:PUBLIC
END:VEVENT
END:VCALENDAR
