BEGIN:VCALENDAR
VERSION:2.0
CALSCALE:GREGORIAN
PRODID:-//Diputació de Barcelona//DibaCMS//EN
BEGIN:VEVENT
UID:6869
DTSTAMP:20260426T023555
DTSTART:20260130T190000
DTEND:20260130T190000
SUMMARY:Cicle de xerrades "De les masies a la IA: Cal Purroig"
LOCATION:Plaça de la Biblioteca , 1 08758 Cervelló
METHOD:PUBLISH
X-WR-CALNAME:ajuntament@cervello.cat
X-WR-TIMEZONE:Europe/Madrid
DESCRIPTION:
URI:https://www.cervello.cat/actualitat/agenda/cicle-de-xerrades-de-les-masies-a-la-ia-cal-purroig.html
CLASS:PUBLIC
END:VEVENT
END:VCALENDAR
