BEGIN:VCALENDAR
VERSION:2.0
CALSCALE:GREGORIAN
PRODID:-//Diputació de Barcelona//DibaCMS//EN
BEGIN:VEVENT
UID:6871
DTSTAMP:20260426T024114
DTSTART:20260204T170000
DTEND:20260311T200000
SUMMARY:Projecte "Més digitals"
LOCATION:Plaça de la Biblioteca , 1 08758 Cervelló
METHOD:PUBLISH
X-WR-CALNAME:ajuntament@cervello.cat
X-WR-TIMEZONE:Europe/Madrid
DESCRIPTION:
URI:https://www.cervello.cat/actualitat/agenda/6871-projecte-mes-digitals.html
CLASS:PUBLIC
END:VEVENT
END:VCALENDAR
