BEGIN:VCALENDAR
VERSION:2.0
CALSCALE:GREGORIAN
PRODID:-//Diputació de Barcelona//DibaCMS//EN
BEGIN:VEVENT
UID:6873
DTSTAMP:20260426T040221
DTSTART:20260221T110000
DTEND:20260221T110000
SUMMARY:Jocs de taula a la Biblioteca
LOCATION:Plaça de la Biblioteca , 1 08758 Cervelló
METHOD:PUBLISH
X-WR-CALNAME:ajuntament@cervello.cat
X-WR-TIMEZONE:Europe/Madrid
DESCRIPTION:
URI:https://www.cervello.cat/actualitat/agenda/jocs-de-taula-a-la-biblioteca.html
CLASS:PUBLIC
END:VEVENT
END:VCALENDAR
