BEGIN:VCALENDAR
VERSION:2.0
CALSCALE:GREGORIAN
PRODID:-//Diputació de Barcelona//DibaCMS//EN
BEGIN:VEVENT
UID:6878
DTSTAMP:20260426T024132
DTSTART:20260227T170000
DTEND:20260227T200000
SUMMARY:Taller d'escriptura vinculat al Premi Delta  
LOCATION:Plaça de la Biblioteca , 1 08758 Cervelló
METHOD:PUBLISH
X-WR-CALNAME:ajuntament@cervello.cat
X-WR-TIMEZONE:Europe/Madrid
DESCRIPTION:
URI:https://www.cervello.cat/actualitat/agenda/6878-taller-descriptura-vinculat-al-premi-delta-.html
CLASS:PUBLIC
END:VEVENT
END:VCALENDAR
