BEGIN:VCALENDAR
VERSION:2.0
CALSCALE:GREGORIAN
PRODID:-//Diputació de Barcelona//DibaCMS//EN
BEGIN:VEVENT
UID:6883
DTSTAMP:20260426T040302
DTSTART:20260127T090000
DTEND:20260127T120000
SUMMARY:Renovació i expedició del DNI
LOCATION:Carrer Major, 146-148 08758 Cervelló
METHOD:PUBLISH
X-WR-CALNAME:ajuntament@cervello.cat
X-WR-TIMEZONE:Europe/Madrid
DESCRIPTION:
URI:https://www.cervello.cat/actualitat/agenda/6883-renovacio-i-expedicio-del-dni.html
CLASS:PUBLIC
END:VEVENT
END:VCALENDAR
