BEGIN:VCALENDAR
VERSION:2.0
CALSCALE:GREGORIAN
PRODID:-//Diputació de Barcelona//DibaCMS//EN
BEGIN:VEVENT
UID:6885
DTSTAMP:20260426T040456
DTSTART:20260121T130000
DTEND:20260121T160000
SUMMARY:2a Trobada empresarial Cervelló Impulsa
LOCATION:Centre logístic Bonpreu "El Xampany" 
METHOD:PUBLISH
X-WR-CALNAME:ajuntament@cervello.cat
X-WR-TIMEZONE:Europe/Madrid
DESCRIPTION:
URI:https://www.cervello.cat/actualitat/agenda/2a-trobada-empresarial-cervello-impulsa.html
CLASS:PUBLIC
END:VEVENT
END:VCALENDAR
