BEGIN:VCALENDAR
VERSION:2.0
CALSCALE:GREGORIAN
PRODID:-//Diputació de Barcelona//DibaCMS//EN
BEGIN:VEVENT
UID:7045
DTSTAMP:20260422T163054
DTSTART:20260427T190000
DTEND:20260427T190000
SUMMARY:Ple municipal extraordinari
LOCATION:Carrer Major, 146-148 08758 Cervelló
METHOD:PUBLISH
X-WR-CALNAME:ajuntament@cervello.cat
X-WR-TIMEZONE:Europe/Madrid
DESCRIPTION:
URI:https://www.cervello.cat/actualitat/agenda/7045-ple-municipal-extraordinari.html
CLASS:PUBLIC
END:VEVENT
END:VCALENDAR
