BEGIN:VCALENDAR
VERSION:2.0
CALSCALE:GREGORIAN
PRODID:-//Diputació de Barcelona//DibaCMS//EN
BEGIN:VEVENT
UID:7047
DTSTAMP:20260425T163604
DTSTART:20260519T164000
DTEND:20260519T164000
SUMMARY:Taller per a famílies: "Fora les vergonyes!"
LOCATION:Carrer Barons de Cervelló , s/n 08758 Cervelló
METHOD:PUBLISH
X-WR-CALNAME:ajuntament@cervello.cat
X-WR-TIMEZONE:Europe/Madrid
DESCRIPTION:
URI:https://www.cervello.cat/actualitat/agenda/taller-per-a-families-fora-les-vergonyes.html
CLASS:PUBLIC
END:VEVENT
END:VCALENDAR
